BEGIN:VCALENDAR
VERSION:2.0
PRODID:-//hacksw/handcal//NONSGML v1.0//EN
BEGIN:VEVENT
UID:638641d9ebf518c846da63b22ca4e2c7
DTSTAMP:20260425T184504Z

DTSTART:20170401T050000
DTEND:20171231T051500
SUMMARY:Haras du Breau
DESCRIPTION:
Le haras du Bréau, élevage de pur sang anglais et AQPS, plat et obstacle, est heureux de vous accueillir, pour vous présenter sa production. Des pedigrees attrayants et commerciaux.
Coordonnées: Haras du Bréau 77940 Blennes - (Seine et Marne).
Fixe:03 81 99 39 81
Mobile:06 47 71 69 52



X-ALT-DESC;FMTTYPE=text/html:<!DOCTYPE HTML PUBLIC "-//W3C//DTD HTML 3.2//EN">\n<HTML>\n<HEAD>\n<META NAME="Generator" CONTENT="MS Exchange Server version 08.00.0681.000">\n<TITLE></TITLE>\n</HEAD>\n<BODY>\n<!-- Converted from text/rtf format -->\n\n
Le haras du Bréau, élevage de pur sang anglais et AQPS, plat et obstacle, est heureux de vous accueillir, pour vous présenter sa production. Des pedigrees attrayants et commerciaux.
Coordonnées: Haras du Bréau 77940 Blennes - (Seine et Marne).
Fixe:03 81 99 39 81
Mobile:06 47 71 69 52

\n\n</BODY>\n</HTML>

LOCATION:
END:VEVENT

END:VCALENDAR
